
BEGIN:VCALENDAR
VERSION:2.0
PRODID:-//Destination Earth - ECPv6.15.20//NONSGML v1.0//EN
CALSCALE:GREGORIAN
METHOD:PUBLISH
X-WR-CALNAME:Destination Earth
X-ORIGINAL-URL:https://destination-earth.eu
X-WR-CALDESC:Events for Destination Earth
REFRESH-INTERVAL;VALUE=DURATION:PT1H
X-Robots-Tag:noindex
X-PUBLISHED-TTL:PT1H
BEGIN:VTIMEZONE
TZID:Europe/Rome
BEGIN:DAYLIGHT
TZOFFSETFROM:+0100
TZOFFSETTO:+0200
TZNAME:CEST
DTSTART:20250330T010000
END:DAYLIGHT
BEGIN:STANDARD
TZOFFSETFROM:+0200
TZOFFSETTO:+0100
TZNAME:CET
DTSTART:20251026T010000
END:STANDARD
BEGIN:DAYLIGHT
TZOFFSETFROM:+0100
TZOFFSETTO:+0200
TZNAME:CEST
DTSTART:20260329T010000
END:DAYLIGHT
BEGIN:STANDARD
TZOFFSETFROM:+0200
TZOFFSETTO:+0100
TZNAME:CET
DTSTART:20261025T010000
END:STANDARD
BEGIN:DAYLIGHT
TZOFFSETFROM:+0100
TZOFFSETTO:+0200
TZNAME:CEST
DTSTART:20270328T010000
END:DAYLIGHT
BEGIN:STANDARD
TZOFFSETFROM:+0200
TZOFFSETTO:+0100
TZNAME:CET
DTSTART:20271031T010000
END:STANDARD
END:VTIMEZONE
BEGIN:VEVENT
DTSTART;TZID=Europe/Rome:20260428T130000
DTEND;TZID=Europe/Rome:20260530T140000
DTSTAMP:20260424T130610
CREATED:20260422T125800Z
LAST-MODIFIED:20260422T125932Z
UID:34803-1777381200-1780149600@destination-earth.eu
SUMMARY:Dynamic Line Rating Pilot Service Demo Webinars
DESCRIPTION:Join three short webinars presenting the Dynamic Line Rating pilot service developed under the Destination Earth initiative. \nThe pilot combines high-resolution\, on-demand simulations of the Extremes Digital Twin to support Dynamic Line Rating technology.\nParticipants will discover the web application\, which allows users to upload transmission line coordinates\, analyse temporal weather variability along routes\, obtain dynamic capacity estimates\, and integrate forecasts and indicators into operational systems via API. \nSessions: \n28 April | 13:00–14:00 CET\n29 April | 13:00–14:00 CET\n30 April | 13:00–14:00 CET \nRegistration 28 April\nRegistration 29 April\nRegistration 30 April
URL:https://destination-earth.eu/event/dynamic-line-rating-pilot-service-demo-webinars/
CATEGORIES:Webinar
ATTACH;FMTTYPE=image/png:https://destination-earth.eu/wp-content/uploads/2026/04/Screenshot-291-2.png
END:VEVENT
END:VCALENDAR