
BEGIN:VCALENDAR
VERSION:2.0
PRODID:-//Destination Earth - ECPv6.5.1.6//NONSGML v1.0//EN
CALSCALE:GREGORIAN
METHOD:PUBLISH
X-WR-CALNAME:Destination Earth
X-ORIGINAL-URL:https://destination-earth.eu
X-WR-CALDESC:Events for Destination Earth
REFRESH-INTERVAL;VALUE=DURATION:PT1H
X-Robots-Tag:noindex
X-PUBLISHED-TTL:PT1H
BEGIN:VTIMEZONE
TZID:Europe/Rome
BEGIN:DAYLIGHT
TZOFFSETFROM:+0100
TZOFFSETTO:+0200
TZNAME:CEST
DTSTART:20260329T010000
END:DAYLIGHT
BEGIN:STANDARD
TZOFFSETFROM:+0200
TZOFFSETTO:+0100
TZNAME:CET
DTSTART:20261025T010000
END:STANDARD
END:VTIMEZONE
BEGIN:VEVENT
DTSTART;TZID=Europe/Rome:20260226T110000
DTEND;TZID=Europe/Rome:20260226T120000
DTSTAMP:20260422T013418
CREATED:20260213T155844Z
LAST-MODIFIED:20260313T104620Z
UID:26030-1772103600-1772107200@destination-earth.eu
SUMMARY:Webinar: Create your stories with DEA: From data to narrative
DESCRIPTION:DEA\, implemented by Alia Space Systems\, is a content creation platform that allows users to create interactive stories without writing code. The ambition of this tool is to make data understandable for non-expert users\, making it easy to build engaging and appealing narratives. \nDEA can be leveraged to create compelling visualisations that can be shared with the community and used to foster collaboration and knowledge dissemination. \nThis webinar will address best practices for structuring stories to enhance their impact\, thus\, how to use data to make stories more engaging. Experts from Alia Space will guide you through the features of the service and will answer your questions. \nAgenda\n\nWelcome and introduction – Trust-IT Services\nBrief introduction to the DestinE Platform – Serco\nThe vision: create your interactive stories with data – Alia\nLive demo: discovering DEA features – Alia\nExamples from the community:\n\na  Copernicus4Regions story about more sustainable urban planning – Planetek Italia\n“A frozen wanderer”: tracking the history of iceberg A23A via Earth observation – EUMETSAT\n\n\nQ&A session\nConclusion – Trust-IT Services\n\nRecording and slides\nAvailable at this link.
URL:https://destination-earth.eu/event/webinar-create-stories-dea/
LOCATION:Online
CATEGORIES:Webinar
ATTACH;FMTTYPE=image/png:https://destination-earth.eu/wp-content/uploads/2026/02/DEA-webinar-banner1-scaled.png
END:VEVENT
END:VCALENDAR