
BEGIN:VCALENDAR
VERSION:2.0
PRODID:-//Destination Earth - ECPv6.5.1.6//NONSGML v1.0//EN
CALSCALE:GREGORIAN
METHOD:PUBLISH
X-ORIGINAL-URL:https://destination-earth.eu
X-WR-CALDESC:Events for Destination Earth
REFRESH-INTERVAL;VALUE=DURATION:PT1H
X-Robots-Tag:noindex
X-PUBLISHED-TTL:PT1H
BEGIN:VTIMEZONE
TZID:Europe/Rome
BEGIN:DAYLIGHT
TZOFFSETFROM:+0100
TZOFFSETTO:+0200
TZNAME:CEST
DTSTART:20210328T010000
END:DAYLIGHT
BEGIN:STANDARD
TZOFFSETFROM:+0200
TZOFFSETTO:+0100
TZNAME:CET
DTSTART:20211031T010000
END:STANDARD
END:VTIMEZONE
BEGIN:VEVENT
DTSTART;TZID=Europe/Rome:20210305T100000
DTEND;TZID=Europe/Rome:20210305T100000
DTSTAMP:20260421T222643
CREATED:20230705T112149Z
LAST-MODIFIED:20230809T144437Z
UID:1255-1614938400-1614938400@destination-earth.eu
SUMMARY:Science and Technology Seminar: How the EC's DestinE programme transforms environmental policy making - Digital twins as a step-change for Earth-system modelling and data assimilation
DESCRIPTION:NOTE: this is based on an event page that was originally published on the European Centre for Medium-Range Weather Forecasts‘ website.  \n\n\n\n\n\n\n\nOn 5 March 2021\, ECMWF ran a seminar titled “How the EC’s DestinE programme transforms environmental policy making – Digital twins as a step-change for Earth-system modelling and data assimilation”.   \nThis seminar is part of ECMWF’s Science and Technology Seminar Series with talks that focus on the development of digital twins. In this first talk in that set\, Peter Bauer provided an overview of the European Commission’s Destination Earth (DestinE) programme\, showing the motivation\, context\, high-level architecture\, and scientific and programmatic aspects.   \nNils Wedi then presented the recent results of 1km global simulations achieved on the Summit system\, using the ECMWF Integrated Forecasting System (IFS). He described how such simulations could contribute to a Digital Twin prototype.  \nThe European Union (EU) plans to be climate neutral by 2050. For its green transition\, the EU plans to fund the development of digital twins of the Earth. For these twins to be more than big data atlases\, they must create a qualitatively new Earth system simulation and observation capability using a methodological framework responsible for exceptional advances in numerical weather prediction. Developing next-generation models to produce high-resolution digital twins of the Earth is an area of focus in ECMWF’s Strategy 2021-30.  \n\n\n\n\n\nMake sure you don’t miss important DestinE updates. Join the DestinE Community newsletter now! \n\n\n\n\nJoin the DestinE Community
URL:https://destination-earth.eu/event/ecmwf-seminar-digitaltwins/
ATTACH;FMTTYPE=image/jpeg:https://destination-earth.eu/wp-content/uploads/2023/07/Digital-twin-event-graphic-690px-min-1.jpg
END:VEVENT
END:VCALENDAR