
BEGIN:VCALENDAR
VERSION:2.0
PRODID:-//Destination Earth - ECPv6.5.1.6//NONSGML v1.0//EN
CALSCALE:GREGORIAN
METHOD:PUBLISH
X-ORIGINAL-URL:https://destination-earth.eu
X-WR-CALDESC:Events for Destination Earth
REFRESH-INTERVAL;VALUE=DURATION:PT1H
X-Robots-Tag:noindex
X-PUBLISHED-TTL:PT1H
BEGIN:VTIMEZONE
TZID:Europe/Rome
BEGIN:DAYLIGHT
TZOFFSETFROM:+0100
TZOFFSETTO:+0200
TZNAME:CEST
DTSTART:20240331T010000
END:DAYLIGHT
BEGIN:STANDARD
TZOFFSETFROM:+0200
TZOFFSETTO:+0100
TZNAME:CET
DTSTART:20241027T010000
END:STANDARD
END:VTIMEZONE
BEGIN:VEVENT
DTSTART;TZID=Europe/Rome:20240320T160000
DTEND;TZID=Europe/Rome:20240320T170000
DTSTAMP:20260419T183251
CREATED:20240312T134643Z
LAST-MODIFIED:20240402T153317Z
UID:6128-1710950400-1710954000@destination-earth.eu
SUMMARY:NWP at the crossroads: How the Quiet\, Digital and Data-Driven Revolutions are shaping the future of NWP
DESCRIPTION:Director of DestinE Irina Sandu (ECMWF) will lead this episode of the European Meteorological Society’s webinar series\, delving into the revolutions shaping Numerical Weather Prediction (NWP). \nNumerical weather prediction (NWP) stands at a pivotal juncture\, influenced by three transformative revolutions. These revolutions\, akin to converging roads\, are reshaping the landscape of Earth system prediction. \n\nQuiet Revolution: Leveraging improved modeling\, observations\, and computational power\, it has propelled NWP forward\, constantly enhancing prediction quality.\nDigital Revolution: Enabled by modern supercomputing\, it has ushered in a new era of high-resolution simulations\, unravelling localized phenomena with unprecedented fidelity.\nMachine Learning Revolution: Compact\, cost-effective machine-learned models recently emerged as formidable contenders of traditional ones\, reimagining NWP boundaries.\n\nThese revolutions will be illustrated using examples from past and recent efforts at ECMWF\, including from the ambitious Destination Earth initiative of the European Commission aiming to develop Digital Twins of the Earth System. Looking ahead\, the future of NWP and more generally of Earth system prediction capabilities lies in synergising these revolutions\, steering us towards a future where predictions are not only increasingly precise but also accessible to all. \nRegister here
URL:https://destination-earth.eu/event/nwp-crossroads-ems-webinar/
ATTACH;FMTTYPE=image/png:https://destination-earth.eu/wp-content/uploads/2024/03/ECMWF-EMS-Webinar-min.png
END:VEVENT
BEGIN:VEVENT
DTSTART;TZID=Europe/Rome:20240326T120000
DTEND;TZID=Europe/Rome:20240326T130000
DTSTAMP:20260419T183251
CREATED:20240305T102751Z
LAST-MODIFIED:20240705T140112Z
UID:6091-1711454400-1711458000@destination-earth.eu
SUMMARY:Leveraging Community Insights for Enhanced DEUC Contributions to DestinE
DESCRIPTION:The first DestinE Community Meeting was held on 26 March at 12:00 CET. This event marked a pivotal moment for engaging with the DEUC team\, tasked with integrating user recommendations into the evolving DestinE platform. \nThe DestinE (DESP) Use Cases Project\, DEUC in short\, represents a focused segment of the broader DestinE initiative. One of the main activities of DEUC is to engage with the DestinE community in relation to the DestinE Platform. Therefore it uniquely benefits from the rich tapestry of insights and experiences across the entire DestinE community. This meeting provided an in-depth exploration of the following key areas: \n\nThe DEUC vision: Uncover the guiding purpose and ambitions behind the collection of user recommendations\, illuminating the path towards a more inclusive and responsive DestinE platform.\nCommunity Landscape: Understand the dynamic ecosystem of the DestinE community\, identifying current challenges\, opportunities\, and the collective journey towards shared goals.\nStrategic Approach: Delve into the strategic framework designed to nurture an environment brimming with engagement\, support\, and collaboration\, enabling every member to flourish.\nFoundational Principles and Processes: Discover the core values and methodologies that sustain the DEUC mission and the broader community’s ethos\, ensuring a cohesive and purpose-driven collaboration.\nCommunities of Practice: Learn about the establishment of specialized groups to deepen collaboration\, knowledge exchange\, and skill enhancement within specific areas of interest\, driving forward the mission with focused expertise.\nEngagement Opportunities: Find out how you can actively participate\, bringing your unique insights to the table and contributing to the ongoing development and direction of the DestinE Platform and DestinE community fabric.\n\nThis session was designed to be much more than a simple briefing. DEUC is committed to creating a space for meaningful dialogue and interactive engagement. \nWatch the Recording\n  \nSee the live interaction results\nSee the Slido poll results and event presentation for more details.
URL:https://destination-earth.eu/event/desp-community-unveiling-vision-strategy-and-engagement/
CATEGORIES:Webinar
ATTACH;FMTTYPE=image/webp:https://destination-earth.eu/wp-content/uploads/2024/03/DESTINE_Webinar_Website_Banner_2024_V2.webp
END:VEVENT
END:VCALENDAR